BEGIN:VCALENDAR
VERSION:2.0
PRODID:TypiCMS
BEGIN:VEVENT
UID:69e6d289839d4
DTSTART;VALUE=DATE:20190313
SEQUENCE:0
TRANSP:OPAQUE
DTEND;VALUE=DATE:20190314
URL:https://coucoulabel.be/agenda/laurent-vigneron-and-the-po-boys-open-jaz
 z-festival
LOCATION:Avenue du Jardin Botanique (Place Polyvalente) – 1348 Louvain-la
 -Neuve
SUMMARY:Laurent Vigneron & the Po'Boys - Open Jazz festival
CLASS:PUBLIC
X-MICROSOFT-CDO-ALLDAYEVENT:TRUE
DTSTAMP:20260421T032737Z
END:VEVENT
END:VCALENDAR