BEGIN:VCALENDAR
VERSION:2.0
PRODID:TypiCMS
BEGIN:VEVENT
UID:69e9239f260b2
DTSTART;VALUE=DATE:20190427
SEQUENCE:0
TRANSP:OPAQUE
DTEND;VALUE=DATE:20190428
URL:https://coucoulabel.be/agenda/bernard-orchestar-balkan-trafik-festival
LOCATION:Palais des Beaux-Arts Rue Ravenstein 23 1000 Bruxelles
SUMMARY:Bernard Orchestar - Balkan Trafik festival
CLASS:PUBLIC
X-MICROSOFT-CDO-ALLDAYEVENT:TRUE
DTSTAMP:20260422T213807Z
END:VEVENT
END:VCALENDAR